0.5
0
0
-0.5
-179.75
89.75
