0.5
0
0
-0.5
-180.0
90.0
